BEGIN:VCALENDAR
VERSION:2.0
PRODID:-//www.moehlin.ch//NONSGML kigkonsult.se iCalcreator 2.22//
CALSCALE:GREGORIAN
METHOD:PUBLISH
X-WR-TIMEZONE:Europe/Berlin
BEGIN:VEVENT
UID:20260425T191929CEST-2275SoZrho@www.moehlin.ch
DTSTAMP:20260425T171929Z
DESCRIPTION:Klicken Sie auf den folgenden Link\, um weitere Informationen z
 ur Veranstaltung zu erhalten:\nhttp://www.moehlin.ch/schule/veranstaltunge
 n/detail/detail.php?i=629
DTSTART:20260703T114500
DTEND:20260703T000000
LOCATION:Steinli Halle A
SUMMARY:Schulschluss vor den Sommerferien
END:VEVENT
END:VCALENDAR
