BEGIN:VCALENDAR
VERSION:2.0
PRODID:-//www.moehlin.ch//NONSGML kigkonsult.se iCalcreator 2.22//
CALSCALE:GREGORIAN
METHOD:PUBLISH
X-WR-TIMEZONE:Europe/Berlin
BEGIN:VEVENT
UID:20260425T191930CEST-0735za6dut@www.moehlin.ch
DTSTAMP:20260425T171930Z
DESCRIPTION:Klicken Sie auf den folgenden Link\, um weitere Informationen z
 ur Veranstaltung zu erhalten:\nhttp://www.moehlin.ch/schule/veranstaltunge
 n/detail/detail.php?i=628
DTSTART:20260702T180000
DTEND:20260702T200000
LOCATION:Steinli Halle A
SUMMARY:Abschlussfeier der 3. Klassen
END:VEVENT
END:VCALENDAR
