BEGIN:VCALENDAR
VERSION:2.0
PRODID:-//www.moehlin.ch//NONSGML kigkonsult.se iCalcreator 2.22//
CALSCALE:GREGORIAN
METHOD:PUBLISH
X-WR-TIMEZONE:Europe/Berlin
BEGIN:VEVENT
UID:20260425T192107CEST-5083obOvp7@www.moehlin.ch
DTSTAMP:20260425T172107Z
DESCRIPTION:Klicken Sie auf den folgenden Link\, um weitere Informationen z
 ur Veranstaltung zu erhalten:\nhttp://www.moehlin.ch/schule/veranstaltunge
 n/detail/detail.php?i=626
DTSTART:20260616T000000
LOCATION:
SUMMARY:Sporttag der SeReal - Verschiebedatum
END:VEVENT
END:VCALENDAR
