BEGIN:VCALENDAR
VERSION:2.0
PRODID:-//www.moehlin.ch//NONSGML kigkonsult.se iCalcreator 2.22//
CALSCALE:GREGORIAN
METHOD:PUBLISH
X-WR-TIMEZONE:Europe/Berlin
BEGIN:VEVENT
UID:20260425T191726CEST-9573Ct8X7w@www.moehlin.ch
DTSTAMP:20260425T171726Z
DESCRIPTION:Klicken Sie auf den folgenden Link\, um weitere Informationen z
 ur Veranstaltung zu erhalten:\nhttp://www.moehlin.ch/schule/veranstaltunge
 n/detail/detail.php?i=625
DTSTART:20260609T000000
LOCATION:
SUMMARY:Sporttag der SeReal
END:VEVENT
END:VCALENDAR
