BEGIN:VCALENDAR
VERSION:2.0
PRODID:-//www.moehlin.ch//NONSGML kigkonsult.se iCalcreator 2.22//
CALSCALE:GREGORIAN
METHOD:PUBLISH
X-WR-TIMEZONE:Europe/Berlin
BEGIN:VEVENT
UID:20260425T191929CEST-5703vvusU0@www.moehlin.ch
DTSTAMP:20260425T171929Z
DESCRIPTION:Klicken Sie auf den folgenden Link\, um weitere Informationen z
 ur Veranstaltung zu erhalten:\nhttp://www.moehlin.ch/schule/veranstaltunge
 n/detail/detail.php?i=623
DTSTART:20260501T000000
LOCATION:
SUMMARY:1. Mai / Tag der Arbeit
END:VEVENT
END:VCALENDAR
