BEGIN:VCALENDAR
VERSION:2.0
PRODID:-//www.moehlin.ch//NONSGML kigkonsult.se iCalcreator 2.22//
CALSCALE:GREGORIAN
METHOD:PUBLISH
X-WR-TIMEZONE:Europe/Berlin
BEGIN:VEVENT
UID:20260422T062243CEST-5006fLRuhu@www.moehlin.ch
DTSTAMP:20260422T042243Z
DESCRIPTION:Klicken Sie auf den folgenden Link\, um weitere Informationen z
 ur Veranstaltung zu erhalten:\nhttp://www.moehlin.ch/schule/veranstaltunge
 n/detail/detail.php?i=614
DTSTART:20260511T000000
DTEND:20260512T000000
LOCATION:
SUMMARY:Projekt-Tage im Storebode
END:VEVENT
END:VCALENDAR
