BEGIN:VCALENDAR
METHOD:PUBLISH
PRODID:-//Weblication CMS
VERSION:2.0
BEGIN:VEVENT
SUMMARY:Frühjahrskonzert
DTSTART:20170510T103000
DTEND:20170510T120000
DESCRIPTION:Zum beliebten klassischen Frühjahreskonzert am Pavillon im Park lädt der Musikverein Bremburg
LOCATION:Bremburg
UID:http://www.moehlin.ch/schule/veranstaltungen_web/termine/410515494.php
URL:http://www.moehlin.ch/schule/veranstaltungen_web/termine/410515494.php
END:VEVENT
BEGIN:VEVENT
SUMMARY:Frühjahrskonzert
DTSTART:20170610T103000
DTEND:20170610T120000
DESCRIPTION:Zum beliebten klassischen Frühjahreskonzert am Pavillon im Park lädt der Musikverein Bremburg
LOCATION:Bremburg
UID:http://www.moehlin.ch/schule/veranstaltungen_web/termine/410515494.php
URL:http://www.moehlin.ch/schule/veranstaltungen_web/termine/410515494.php
END:VEVENT
BEGIN:VEVENT
SUMMARY:Frühjahrskonzert
DTSTART:20170710T103000
DTEND:20170710T120000
DESCRIPTION:Zum beliebten klassischen Frühjahreskonzert am Pavillon im Park lädt der Musikverein Bremburg
LOCATION:Bremburg
UID:http://www.moehlin.ch/schule/veranstaltungen_web/termine/410515494.php
URL:http://www.moehlin.ch/schule/veranstaltungen_web/termine/410515494.php
END:VEVENT
BEGIN:VEVENT
SUMMARY:Frühjahrskonzert
DTSTART:20170810T103000
DTEND:20170810T120000
DESCRIPTION:Zum beliebten klassischen Frühjahreskonzert am Pavillon im Park lädt der Musikverein Bremburg
LOCATION:Bremburg
UID:http://www.moehlin.ch/schule/veranstaltungen_web/termine/410515494.php
URL:http://www.moehlin.ch/schule/veranstaltungen_web/termine/410515494.php
END:VEVENT
END:VCALENDAR