BEGIN:VCALENDAR
VERSION:2.0
PRODID:-//www.moehlin.ch//NONSGML kigkonsult.se iCalcreator 2.22//
CALSCALE:GREGORIAN
METHOD:PUBLISH
X-WR-TIMEZONE:Europe/Berlin
BEGIN:VEVENT
UID:20260422T145049CEST-8856ZCpAXS@www.moehlin.ch
DTSTAMP:20260422T125049Z
DESCRIPTION:Klicken Sie auf den folgenden Link\, um weitere Informationen z
 ur Veranstaltung zu erhalten:\nhttp://www.moehlin.ch/musikschule/veranstal
 tungen/detail/detail.php?i=461
DTSTART:20260623T170000
LOCATION:Aula Storebode
SUMMARY:Schülerkonzert mit der Trompetenklasse von A. Meier
END:VEVENT
END:VCALENDAR
