BEGIN:VCALENDAR
VERSION:2.0
PRODID:-//www.moehlin.ch//NONSGML kigkonsult.se iCalcreator 2.22//
CALSCALE:GREGORIAN
METHOD:PUBLISH
X-WR-TIMEZONE:Europe/Berlin
BEGIN:VEVENT
UID:20260422T145049CEST-7472vUIL0A@www.moehlin.ch
DTSTAMP:20260422T125049Z
DESCRIPTION:Klicken Sie auf den folgenden Link\, um weitere Informationen z
 ur Veranstaltung zu erhalten:\nhttp://www.moehlin.ch/musikschule/veranstal
 tungen/detail/detail.php?i=460
DTSTART:20260501T170000
LOCATION:
SUMMARY:Schülerkonzert mit der Blockflötenklasse von I. Garnier
END:VEVENT
END:VCALENDAR
