BEGIN:VCALENDAR
VERSION:2.0
PRODID:-//www.moehlin.ch//NONSGML kigkonsult.se iCalcreator 2.22//
CALSCALE:GREGORIAN
METHOD:PUBLISH
X-WR-TIMEZONE:Europe/Berlin
BEGIN:VEVENT
UID:20260422T144818CEST-3667NvGL6g@www.moehlin.ch
DTSTAMP:20260422T124818Z
DESCRIPTION:Klicken Sie auf den folgenden Link\, um weitere Informationen z
 ur Veranstaltung zu erhalten:\nhttp://www.moehlin.ch/musikschule/veranstal
 tungen/detail/detail.php?i=459
DTSTART:20260624T180000
LOCATION:
SUMMARY:Schülerkonzert mit der Saxofonklasse von R. Straub
END:VEVENT
END:VCALENDAR
