BEGIN:VCALENDAR
VERSION:2.0
PRODID:-//www.moehlin.ch//NONSGML kigkonsult.se iCalcreator 2.22//
CALSCALE:GREGORIAN
METHOD:PUBLISH
X-WR-TIMEZONE:Europe/Berlin
BEGIN:VEVENT
UID:20260422T123851CEST-5233dRdT3G@www.moehlin.ch
DTSTAMP:20260422T103851Z
DESCRIPTION:Klicken Sie auf den folgenden Link\, um weitere Informationen z
 ur Veranstaltung zu erhalten:\nhttp://www.moehlin.ch/bibliothek/veranstalt
 ungen/detail/detail.php?i=3166
DTSTART:20261028T143000
DTEND:20261028T163000
LOCATION:Gemeindebibliothek Möhlin
SUMMARY:Nintendo Switch Mario-Kart 8
END:VEVENT
END:VCALENDAR
