BEGIN:VCALENDAR
VERSION:2.0
PRODID:-//www.moehlin.ch//NONSGML kigkonsult.se iCalcreator 2.22//
CALSCALE:GREGORIAN
METHOD:PUBLISH
X-WR-TIMEZONE:Europe/Berlin
BEGIN:VEVENT
UID:20260422T123831CEST-3212ndmxhv@www.moehlin.ch
DTSTAMP:20260422T103831Z
DESCRIPTION:Klicken Sie auf den folgenden Link\, um weitere Informationen z
 ur Veranstaltung zu erhalten:\nhttp://www.moehlin.ch/bibliothek/veranstalt
 ungen/detail/detail.php?i=3165
DTSTART:20260923T143000
DTEND:20260923T163000
LOCATION:Gemeindebibliothek Möhlin
SUMMARY:Nintendo Switch Mario-Kart 8
END:VEVENT
END:VCALENDAR
