BEGIN:VCALENDAR
VERSION:2.0
PRODID:-//www.moehlin.ch//NONSGML kigkonsult.se iCalcreator 2.22//
CALSCALE:GREGORIAN
METHOD:PUBLISH
X-WR-TIMEZONE:Europe/Berlin
BEGIN:VEVENT
UID:20260422T123910CEST-75013B2zNr@www.moehlin.ch
DTSTAMP:20260422T103910Z
DESCRIPTION:Klicken Sie auf den folgenden Link\, um weitere Informationen z
 ur Veranstaltung zu erhalten:\nhttp://www.moehlin.ch/bibliothek/veranstalt
 ungen/detail/detail.php?i=3161
DTSTART:20261014T143000
DTEND:20261014T160000
LOCATION:Gemeindebibliothek Möhlin
SUMMARY:KinderKinoMittwoch
END:VEVENT
END:VCALENDAR
