BEGIN:VCALENDAR
VERSION:2.0
PRODID:-//www.moehlin.ch//NONSGML kigkonsult.se iCalcreator 2.22//
CALSCALE:GREGORIAN
METHOD:PUBLISH
X-WR-TIMEZONE:Europe/Berlin
BEGIN:VEVENT
UID:20260422T124028CEST-4166FAu682@www.moehlin.ch
DTSTAMP:20260422T104028Z
DESCRIPTION:Klicken Sie auf den folgenden Link\, um weitere Informationen z
 ur Veranstaltung zu erhalten:\nhttp://www.moehlin.ch/bibliothek/veranstalt
 ungen/detail/detail.php?i=3160
DTSTART:20260909T143000
DTEND:20260909T160000
LOCATION:Gemeindebibliothek Möhlin
SUMMARY:KinderKinoMittwoch
END:VEVENT
END:VCALENDAR
