BEGIN:VCALENDAR
VERSION:2.0
PRODID:-//www.moehlin.ch//NONSGML kigkonsult.se iCalcreator 2.22//
CALSCALE:GREGORIAN
METHOD:PUBLISH
X-WR-TIMEZONE:Europe/Berlin
BEGIN:VEVENT
UID:20260420T121539CEST-2598fimsCe@www.moehlin.ch
DTSTAMP:20260420T101539Z
DESCRIPTION:Klicken Sie auf den folgenden Link\, um weitere Informationen z
 ur Veranstaltung zu erhalten:\nhttp://www.moehlin.ch/bibliothek/veranstalt
 ungen/detail/detail.php?i=2848
DTSTART:20261204T173000
DTEND:20261204T193000
LOCATION:Gemeindebibliothek Möhlin
SUMMARY:SchreibBar Möhlin
END:VEVENT
END:VCALENDAR
