BEGIN:VCALENDAR
VERSION:2.0
PRODID:-//www.moehlin.ch//NONSGML kigkonsult.se iCalcreator 2.22//
CALSCALE:GREGORIAN
METHOD:PUBLISH
X-WR-TIMEZONE:Europe/Berlin
BEGIN:VEVENT
UID:20260422T123753CEST-58356HfpOD@www.moehlin.ch
DTSTAMP:20260422T103753Z
DESCRIPTION:Klicken Sie auf den folgenden Link\, um weitere Informationen z
 ur Veranstaltung zu erhalten:\nhttp://www.moehlin.ch/bibliothek/buchstart/
 detail/detail.php?i=265
DTSTART:20260425T093000
DTEND:20260425T100000
LOCATION:Gemeindebibliothek Möhlin
SUMMARY:BuchstartKaffee mini
END:VEVENT
END:VCALENDAR
